BEGIN:VCALENDAR
PRODID:Nexudus
VERSION:2.0
BEGIN:VTIMEZONE
TZID:America/New_York
X-LIC-LOCATION:America/New_York
BEGIN:STANDARD
DTSTART:20241103T020000
RRULE:FREQ=YEARLY;BYDAY=1SU;BYMONTH=11
TZNAME:EST
TZOFFSETFROM:-0400
TZOFFSETTO:-0500
END:STANDARD
BEGIN:DAYLIGHT
DTSTART:20250309T020000
RRULE:FREQ=YEARLY;BYDAY=2SU;BYMONTH=3
TZNAME:EDT
TZOFFSETFROM:-0500
TZOFFSETTO:-0400
END:DAYLIGHT
END:VTIMEZONE
BEGIN:VEVENT
DESCRIPTION:Whether you are getting ready to talk with store owners\, distr
 ibutors\, bankers or investors you have to be ready to tell your story in 
 a way that helps that person connect with what you are offering.\n\nThis w
 orkshop will include: \n1) An outline of what needs to be included in an i
 ntroductory pitch \n2) Hands-on time to brainstorm exactly what YOU will i
 nclude in your pitch\n3) Examples of pitch presentations that work (and on
 es that DON'T!) \n\nYou'll leave the workshop with an outline of both your
  script and your presentation. Polishing it and improving it is up to you!
 \nEvent link: https://www.bronxcookspace.org/en/events/view/992321434/prep
 are-to-pitch--workshop\n
DTEND;TZID=America/New_York:20190425T200000
DTSTAMP:20260424T204714Z
DTSTART;TZID=America/New_York:20190425T180000
LOCATION:Bronx CookSpace
SEQUENCE:0
SUMMARY:Prepare to Pitch! Workshop
UID:f6e743fa-8235-484d-b0fb-f259a6fc395d
END:VEVENT
END:VCALENDAR
