BEGIN:VCALENDAR
PRODID:Nexudus
VERSION:2.0
BEGIN:VTIMEZONE
TZID:America/New_York
X-LIC-LOCATION:America/New_York
BEGIN:STANDARD
DTSTART:20241103T020000
RRULE:FREQ=YEARLY;BYDAY=1SU;BYMONTH=11
TZNAME:EST
TZOFFSETFROM:-0400
TZOFFSETTO:-0500
END:STANDARD
BEGIN:DAYLIGHT
DTSTART:20250309T020000
RRULE:FREQ=YEARLY;BYDAY=2SU;BYMONTH=3
TZNAME:EDT
TZOFFSETFROM:-0500
TZOFFSETTO:-0400
END:DAYLIGHT
END:VTIMEZONE
BEGIN:VEVENT
DESCRIPTION:Free product photography for local manufacturers\nEvent link: h
 ttps://www.bronxcookspace.org/en/events/view/965762820/pop-up-photography-
 studio-with-made-in-nyc\n
DTEND;TZID=America/New_York:20190412T170000
DTSTAMP:20260424T221343Z
DTSTART;TZID=America/New_York:20190412T110000
LOCATION:WHEDco
SEQUENCE:0
SUMMARY:Pop-Up Photography Studio with Made in NYC
UID:ecfc3635-9944-408f-af7b-59812e629871
END:VEVENT
END:VCALENDAR
