BEGIN:VCALENDAR
PRODID:Nexudus
VERSION:2.0
BEGIN:VTIMEZONE
TZID:America/New_York
X-LIC-LOCATION:America/New_York
BEGIN:STANDARD
DTSTART:20241103T020000
RRULE:FREQ=YEARLY;BYDAY=1SU;BYMONTH=11
TZNAME:EST
TZOFFSETFROM:-0400
TZOFFSETTO:-0500
END:STANDARD
BEGIN:DAYLIGHT
DTSTART:20250309T020000
RRULE:FREQ=YEARLY;BYDAY=2SU;BYMONTH=3
TZNAME:EDT
TZOFFSETFROM:-0500
TZOFFSETTO:-0400
END:DAYLIGHT
END:VTIMEZONE
BEGIN:VEVENT
DESCRIPTION:Did you know that tax credits are available for new/improved pr
 oduct and process development? Food and beverage companies are excellent c
 andidates for the R&D Tax Credit\, particularly with the increased global 
 focus on clean foods and food safety. Please join the Small Food Producers
  Network and Andrea Albanese of R&D Tax Savers as we discuss the ins and o
 uts of the R&D Tax Credit and how it can apply to your business.\nEvent li
 nk: https://www.bronxcookspace.org/en/events/view/607819347/the-r-d-tax-cr
 edit-for-food-and-beverage-companies\n
DTEND;TZID=America/New_York:20180515T200000
DTSTAMP:20260424T221815Z
DTSTART;TZID=America/New_York:20180515T180000
LOCATION:Brooklyn Kitchen
SEQUENCE:0
SUMMARY:The R&D Tax Credit for Food and Beverage Companies
UID:7ccda6b5-c195-4a1a-a9de-293210d36596
END:VEVENT
END:VCALENDAR
