BEGIN:VCALENDAR
PRODID:Nexudus
VERSION:2.0
BEGIN:VTIMEZONE
TZID:America/New_York
X-LIC-LOCATION:America/New_York
BEGIN:STANDARD
DTSTART:20241103T020000
RRULE:FREQ=YEARLY;BYDAY=1SU;BYMONTH=11
TZNAME:EST
TZOFFSETFROM:-0400
TZOFFSETTO:-0500
END:STANDARD
BEGIN:DAYLIGHT
DTSTART:20250309T020000
RRULE:FREQ=YEARLY;BYDAY=2SU;BYMONTH=3
TZNAME:EDT
TZOFFSETFROM:-0500
TZOFFSETTO:-0400
END:DAYLIGHT
END:VTIMEZONE
BEGIN:VEVENT
DESCRIPTION:Learn how to successfully work with a bank to help your busines
 s grow.\nEvent link: https://www.bronxcookspace.org/en/events/view/6024190
 14/working-with-a-bank---access-to-capital\n
DTEND;TZID=America/New_York:20180515T120000
DTSTAMP:20260424T221032Z
DTSTART;TZID=America/New_York:20180515T100000
LOCATION:WHEDco
SEQUENCE:0
SUMMARY:Working with a Bank & Access to Capital
UID:52be7a06-d76c-4ff0-8a24-5d420390346f
END:VEVENT
END:VCALENDAR
