BEGIN:VCALENDAR
PRODID:Nexudus
VERSION:2.0
BEGIN:VTIMEZONE
TZID:America/New_York
X-LIC-LOCATION:America/New_York
BEGIN:STANDARD
DTSTART:20241103T020000
RRULE:FREQ=YEARLY;BYDAY=1SU;BYMONTH=11
TZNAME:EST
TZOFFSETFROM:-0400
TZOFFSETTO:-0500
END:STANDARD
BEGIN:DAYLIGHT
DTSTART:20250309T020000
RRULE:FREQ=YEARLY;BYDAY=2SU;BYMONTH=3
TZNAME:EDT
TZOFFSETFROM:-0500
TZOFFSETTO:-0400
END:DAYLIGHT
END:VTIMEZONE
BEGIN:VEVENT
DESCRIPTION:Meet the Lenders: Speed Lending Workshop at SOBRO\nEvent link: 
 https://www.bronxcookspace.org/en/events/view/562657108/meet-the-lenders--
 speed-lending-workshop-at-sobro\n
DTEND;TZID=America/New_York:20180309T120000
DTSTAMP:20260424T221846Z
DTSTART;TZID=America/New_York:20180309T100000
LOCATION:South Bronx Overall Economic Development Corporation
SEQUENCE:0
SUMMARY:Meet the Lenders: Speed Lending Workshop at SOBRO
UID:63389291-1890-4bfe-8e75-1bd321e0cbaf
END:VEVENT
END:VCALENDAR
